Workbook
Name active_row: CELL("row")-CELL("row",'Non Hazardous Waste Chart'!rng_h)+1
Name active_row: CELL("row")-CELL("row",'Waste Dashboard'!rng_h)+1
Name active_row: CELL("row")-CELL("row",rng_h)+1
Name arr_01: MMULT(--(MATCH(ROW(#REF!),'Waste Dashboard'!arr_s,1)='Waste Dashboard'!arr_c),'Waste Dashboard'!rng_h)*ISERROR(MATCH(ROW(#REF!),INT('Waste Dashboard'!arr_s)+1,0))
Name arr_01: MMULT(--(MATCH(ROW(#REF!),arr_s,1)=arr_c),rng_h)*ISERROR(MATCH(ROW(#REF!),INT(arr_s)+1,0))
Name arr_1: MOD(MATCH(ROW(#REF!),'Non Hazardous Waste Chart'!arr_s,1),2)*MATCH(ROW(#REF!),'Non Hazardous Waste Chart'!arr_s,1)
Name arr_1: MOD(MATCH(ROW(#REF!),'Waste Dashboard'!arr_s,1),2)*MATCH(ROW(#REF!),'Waste Dashboard'!arr_s,1)
Name arr_1: MOD(MATCH(ROW(#REF!),arr_s,1),2)*MATCH(ROW(#REF!),arr_s,1)
Name arr_2: (MOD(MATCH(ROW(#REF!),'Non Hazardous Waste Chart'!arr_s,1),2)=0)*MATCH(ROW(#REF!),'Non Hazardous Waste Chart'!arr_s,1)
Name arr_2: (MOD(MATCH(ROW(#REF!),'Waste Dashboard'!arr_s,1),2)=0)*MATCH(ROW(#REF!),'Waste Dashboard'!arr_s,1)
Name arr_2: (MOD(MATCH(ROW(#REF!),arr_s,1),2)=0)*MATCH(ROW(#REF!),arr_s,1)
Name arr_3: (MATCH(ROW(#REF!),'Non Hazardous Waste Chart'!arr_s,1)='Non Hazardous Waste Chart'!active_row)*MATCH(ROW(#REF!),'Non Hazardous Waste Chart'!arr_s,1)
Name arr_3: (MATCH(ROW(#REF!),'Waste Dashboard'!arr_s,1)='Waste Dashboard'!active_row)*MATCH(ROW(#REF!),'Waste Dashboard'!arr_s,1)
Name arr_3: (MATCH(ROW(#REF!),arr_s,1)=active_row)*MATCH(ROW(#REF!),arr_s,1)
Name arr_c: COLUMN(OFFSET(#REF!,,,,ROWS('Non Hazardous Waste Chart'!rng_h)))
Name arr_c: COLUMN(OFFSET(#REF!,,,,ROWS('Waste Dashboard'!rng_h)))
Name arr_c: COLUMN(OFFSET(#REF!,,,,ROWS(rng_h)))
Name arr_pie: TRANSPOSE('Non Hazardous Waste Chart'!arr_c^0)
Name arr_pie: TRANSPOSE('Waste Dashboard'!arr_c^0)
Name arr_pie: TRANSPOSE(arr_c^0)
Name arr_s: MMULT(--(ROW('Non Hazardous Waste Chart'!rng_a)>TRANSPOSE(ROW('Non Hazardous Waste Chart'!rng_a))),'Non Hazardous Waste Chart'!rng_a/SUM('Non Hazardous Waste Chart'!rng_a)*360)
Name arr_s: MMULT(--(ROW('Waste Dashboard'!rng_a)>TRANSPOSE(ROW('Waste Dashboard'!rng_a))),'Waste Dashboard'!rng_a/SUM('Waste Dashboard'!rng_a)*360)
Name arr_s: MMULT(--(ROW(rng_a)>TRANSPOSE(ROW(rng_a))),rng_a/SUM(rng_a)*360)
Name arr_s3: MMULT(--('Non Hazardous Waste Chart'!arr_3='Non Hazardous Waste Chart'!arr_c),'Non Hazardous Waste Chart'!rng_h)
Name arr_s3: MMULT(--('Waste Dashboard'!arr_3='Waste Dashboard'!arr_c),'Waste Dashboard'!rng_h)
Name arr_s3: MMULT(--(arr_3=arr_c),rng_h)
Name arr_s4: ROW(#REF!)^0*40*(MEDIAN(CELL("row"),CELL("row",'Non Hazardous Waste Chart'!rng_h),MAX(ROW('Non Hazardous Waste Chart'!rng_h)))=CELL("row"))
Name arr_s4: ROW(#REF!)^0*40*(MEDIAN(CELL("row"),CELL("row",'Waste Dashboard'!rng_h),MAX(ROW('Waste Dashboard'!rng_h)))=CELL("row"))
Name arr_s4: ROW(#REF!)^0*40*(MEDIAN(CELL("row"),CELL("row",rng_h),MAX(ROW(rng_h)))=CELL("row"))
Name arr_s5: 'Non Hazardous Waste Chart'!arr_s4*2/3
Name arr_s5: 'Waste Dashboard'!arr_s4*2/3
Name arr_s5: arr_s4*2/3
Name arr_s6: MMULT(--(MATCH(ROW(#REF!),arr_s,1)=arr_c),rng_h)*(CELL("row")=MEDIAN(CELL("row"),CELL("row",rng_h),MAX(ROW(rng_h))))
Name final: CHOOSE(#REF!,HALINI,SUJAWAL,GHAURI,MARI,KOONJ)
Name Month: OFFSET(#REF!,0,#REF!,1,6)
Name Month: OFFSET(#REF!,0,#REF!,1,6)
Name Month: OFFSET(#REF!,0,#REF!,1,6)
Name rng_a: OFFSET('Non Hazardous Waste Chart'!rng_h,,-1)
Name rng_a: OFFSET('Waste Dashboard'!rng_h,,-1)
Name rng_a: OFFSET(rng_h,,-1)
Name rng_h: #REF!:INDEX(#REF!,COUNTA(#REF!))
Name rng_h: #REF!:INDEX(#REF!,COUNTA(#REF!))
Name rng_h: #REF!:INDEX(#REF!,COUNTA(#REF!))
Name SalesMonth: OFFSET(#REF!,0,MATCH(#REF!,#REF!,0)-1)
Name SalesMonth: OFFSET(#REF!,0,MATCH(#REF!,#REF!,0)-1)
Name SalesMonth: OFFSET(#REF!,0,MATCH(#REF!,#REF!,0)-1)
Name SalesMonth_1: OFFSET(#REF!,0,MATCH(#REF!,#REF!,0)-1)
Name SalesMonth_1: OFFSET(#REF!,0,MATCH(#REF!,#REF!,0)-1)
Name SalesMonth_1: OFFSET(#REF!,0,MATCH(#REF!,#REF!,0)-1)
Name SalesMonth_10: OFFSET(#REF!,0,MATCH(#REF!,#REF!,0)-1)
Name SalesMonth_10: OFFSET(#REF!,0,MATCH(#REF!,#REF!,0)-1)
Name SalesMonth_10: OFFSET(#REF!,0,MATCH(#REF!,#REF!,0)-1)
Name SalesMonth_11: OFFSET(#REF!,0,MATCH(#REF!,#REF!,0)-1)
Name SalesMonth_11: OFFSET(#REF!,0,MATCH(#REF!,#REF!,0)-1)
Name SalesMonth_11: OFFSET(#REF!,0,MATCH(#REF!,#REF!,0)-1)
Name SalesMonth_12: OFFSET(#REF!,0,MATCH(#REF!,#REF!,0)-1)
Name SalesMonth_12: OFFSET(#REF!,0,MATCH(#REF!,#REF!,0)-1)
Name SalesMonth_12: OFFSET(#REF!,0,MATCH(#REF!,#REF!,0)-1)
Name SalesMonth_2: OFFSET(#REF!,0,MATCH(#REF!,#REF!,0)-1)
Name SalesMonth_2: OFFSET(#REF!,0,MATCH(#REF!,#REF!,0)-1)

Sheet Waste Dashboard Data
A1: Registro mensual de gestión de residuos y consumo
A2: Mes | B2: Jan | C2: Codigo proyecto | D2: WM01 | E2: Nombre del proyecto | F2: Tunnel Project
A3: Descripción del flujo de residuos | B3: Clase | C3: Unidades | D3: Generado este mes | E3: Proyecto acumulado | F3: Current Stock actual (volumen) | G3: volumen/mes | I3: Ubicación de eliminación/reciclaje y contratista
G5: Dispuesto | H5: eutilización/Reciclaje
A6: Hazardous Industrial Waste
A7: Bqaterias | B7: I | C7: pcs. | D7: 6 | E7: 4 | F7: 6 | G7: 1 | H7: 0
A8: Filtros de aceite | B8: I | C8: pcs. | D8: 2 | E8: 4 | F8: 6 | G8: 1 | H8: 0
A9: Tambores quimicos | B9: I | C9: cu.m | D9: 2 | E9: 4 | F9: 6 | G9: 1 | H9: 0
A10: Tambores de aceite | B10: I | C10: cu.m | D10: 2 | E10: 4 | F10: 6 | G10: 1 | H10: 0
A11: Suelos contaminados | B11: I | C11: cu.m | D11: 2 | E11: 4 | F11: 6 | G11: 1 | H11: 0
A12: Latas de pintura | B12: I | C12: cu.m | D12: 2 | E12: 4 | F12: 6 | G12: 1 | H12: 1
A13: Aceites usados | B13: I | C13: Litrs | D13: 2 | E13: 4 | F13: 6 | G13: 1 | H13: 1
A14: Baterias usadas | B14: I | C14: pcs. | D14: 2 | E14: 4 | F14: 6 | G14: 1 | H14: 1
A15: Residuos no peligrosos
A16: Aguas residuales | B16: II | C16: Litrs | D16: 10 | E16: 8 | F16: N/A | H16: N/A
A17: Carton y papel | B17: II | C17: cu.m | D17: 12 | E17: 7 | F17: N/A | H17: N/A
A18: Residuos de alimentos | B18: II | C18: cu.m | D18: 14 | E18: 8 | F18: N/A | H18: N/A
A19: Chatarra | B19: II | C19: cu.m | D19: 16 | E19: 8 | F19: N/A | H19: N/A
A20: Residuos de construcción | B20: II | C20: cu.m | D20: 7 | E20: 7 | F20: N/A | H20: N/A
A21: Residuos como vidrio o espuma | B21: II | C21: cu.m | D21: 3 | E21: 4 | F21: N/A | H21: N/A
A22: Residuos de madera | B22: II | C22: KG | D22: 3 | E22: 3 | F22: N/A | H22: N/A
A23: Residuos inertes
A24: Residuos de cemento | B24: III | C24: cu.m | D24: 2 | E24: 3 | F24: N/A | H24: N/A
A25: Neumaticos usados | B25: III | C25: pcs. | D25: 2 | E25: 4 | H25: N/A

Sheet Waste Dashboard
A1: Tablero de gestión de residuos
A3: Mes | D3: ='Waste Dashboard Data'!B2 -> Jan | H3: Codigo del proyecto | M3: ='Waste Dashboard Data'!D2 -> WM01 | P3: Nombre del Proyecto | T3: ='Waste Dashboard Data'!F2 -> Tunnel Project
B5: Hazardous Waste
A20: Residuos no peligrosos

Sheet Hazardous Industrial Waste
B1: Generated this month | C1: Project Cumulative | D1: Current Stock (Volume) | E1: Disposed | F1: Reuse/Recycle | G1: Disposed % | H1: Reuse/Recycle %
A2: Batteries | B2: ='Waste Dashboard Data'!D7 -> 6 | C2: ='Waste Dashboard Data'!E7 -> 4 | D2: ='Waste Dashboard Data'!F7 -> 6 | E2: ='Waste Dashboard Data'!G7 -> 1 | F2: ='Waste Dashboard Data'!H7 -> 0 | G2: =E2/B2 -> 0.16666667 | H2: =F2/B2 -> 0
A3: Oil filters | B3: ='Waste Dashboard Data'!D8 -> 2 | C3: ='Waste Dashboard Data'!E8 -> 4 | D3: ='Waste Dashboard Data'!F8 -> 6 | E3: ='Waste Dashboard Data'!G8 -> 1 | F3: ='Waste Dashboard Data'!H8 -> 0 | G3: =E3/B3 -> 0.5 | H3: =F3/B3 -> 0
A4: Chemical drum empty | B4: ='Waste Dashboard Data'!D9 -> 2 | C4: ='Waste Dashboard Data'!E9 -> 4 | D4: ='Waste Dashboard Data'!F9 -> 6 | E4: ='Waste Dashboard Data'!G9 -> 1 | F4: ='Waste Dashboard Data'!H9 -> 0 | G4: =E4/B4 -> 0.5 | H4: =F4/B4 -> 0
A5: Oil drums empty | B5: ='Waste Dashboard Data'!D10 -> 2 | C5: ='Waste Dashboard Data'!E10 -> 4 | D5: ='Waste Dashboard Data'!F10 -> 6 | E5: ='Waste Dashboard Data'!G10 -> 1 | F5: ='Waste Dashboard Data'!H10 -> 0 | G5: =E5/B5 -> 0.5 | H5: =F5/B5 -> 0
A6: Contaminated soils | B6: ='Waste Dashboard Data'!D11 -> 2 | C6: ='Waste Dashboard Data'!E11 -> 4 | D6: ='Waste Dashboard Data'!F11 -> 6 | E6: ='Waste Dashboard Data'!G11 -> 1 | F6: ='Waste Dashboard Data'!H11 -> 0 | G6: =E6/B6 -> 0.5 | H6: =F6/B6 -> 0
A7: Empty mastic/paint cans | B7: ='Waste Dashboard Data'!D12 -> 2 | C7: ='Waste Dashboard Data'!E12 -> 4 | D7: ='Waste Dashboard Data'!F12 -> 6 | E7: ='Waste Dashboard Data'!G12 -> 1 | F7: ='Waste Dashboard Data'!H12 -> 1 | G7: =E7/B7 -> 0.5 | H7: =F7/B7 -> 0.5
A8: Waste oils | B8: ='Waste Dashboard Data'!D13 -> 2 | C8: ='Waste Dashboard Data'!E13 -> 4 | D8: ='Waste Dashboard Data'!F13 -> 6 | E8: ='Waste Dashboard Data'!G13 -> 1 | F8: ='Waste Dashboard Data'!H13 -> 1 | G8: =E8/B8 -> 0.5 | H8: =F8/B8 -> 0.5
A9: Used Batteries | B9: ='Waste Dashboard Data'!D14 -> 2 | C9: ='Waste Dashboard Data'!E14 -> 4 | D9: ='Waste Dashboard Data'!F14 -> 6 | E9: ='Waste Dashboard Data'!G14 -> 1 | F9: ='Waste Dashboard Data'!H14 -> 1 | G9: =E9/B9 -> 0.5 | H9: =F9/B9 -> 0.5

Sheet Non Hazardous Waste Chart
A1: Non-Hazardous Waste | K1: Inert Waste
B2: Non-Hazardous Waste | C2: Generated this month | D2: Project Cumulative | L2: Generated this month | M2: Project Cumulative
A3: Sewage water | C3: ='Waste Dashboard Data'!D16 -> 10 | D3: ='Waste Dashboard Data'!E16 -> 8 | K3: Fireproofing Cement/Refractory waste | L3: ='Waste Dashboard Data'!D24 -> 2 | M3: ='Waste Dashboard Data'!E24 -> 3
A4: Cardboard and paper | C4: ='Waste Dashboard Data'!D17 -> 12 | D4: ='Waste Dashboard Data'!E17 -> 7 | K4: Tires-used | L4: ='Waste Dashboard Data'!D25 -> 2 | M4: ='Waste Dashboard Data'!E25 -> 4
A5: Kitchen/food waste | C5: ='Waste Dashboard Data'!D18 -> 14 | D5: ='Waste Dashboard Data'!E18 -> 8
A6: Sheet Metal Scrap | C6: ='Waste Dashboard Data'!D19 -> 16 | D6: ='Waste Dashboard Data'!E19 -> 8
A7: Rockwool waste ( Insulation ) | C7: ='Waste Dashboard Data'!D20 -> 7 | D7: ='Waste Dashboard Data'!E20 -> 7
A8: Foam Glass/PIR Waste | C8: ='Waste Dashboard Data'!D21 -> 3 | D8: ='Waste Dashboard Data'!E21 -> 4
A9: Wood waste | C9: ='Waste Dashboard Data'!D22 -> 3 | D9: ='Waste Dashboard Data'!E22 -> 3
